BEGIN:VCALENDAR
VERSION:2.0
PRODID:-//Alcoholics Anonymous - ECPv6.15.20//NONSGML v1.0//EN
CALSCALE:GREGORIAN
METHOD:PUBLISH
X-WR-CALNAME:Alcoholics Anonymous
X-ORIGINAL-URL:https://www.aawausauwi.org
X-WR-CALDESC:Events for Alcoholics Anonymous
REFRESH-INTERVAL;VALUE=DURATION:PT1H
X-Robots-Tag:noindex
X-PUBLISHED-TTL:PT1H
BEGIN:VTIMEZONE
TZID:America/Chicago
BEGIN:DAYLIGHT
TZOFFSETFROM:-0600
TZOFFSETTO:-0500
TZNAME:CDT
DTSTART:20220313T080000
END:DAYLIGHT
BEGIN:STANDARD
TZOFFSETFROM:-0500
TZOFFSETTO:-0600
TZNAME:CST
DTSTART:20221106T070000
END:STANDARD
BEGIN:DAYLIGHT
TZOFFSETFROM:-0600
TZOFFSETTO:-0500
TZNAME:CDT
DTSTART:20230312T080000
END:DAYLIGHT
BEGIN:STANDARD
TZOFFSETFROM:-0500
TZOFFSETTO:-0600
TZNAME:CST
DTSTART:20231105T070000
END:STANDARD
BEGIN:DAYLIGHT
TZOFFSETFROM:-0600
TZOFFSETTO:-0500
TZNAME:CDT
DTSTART:20240310T080000
END:DAYLIGHT
BEGIN:STANDARD
TZOFFSETFROM:-0500
TZOFFSETTO:-0600
TZNAME:CST
DTSTART:20241103T070000
END:STANDARD
END:VTIMEZONE
BEGIN:VEVENT
DTSTART;TZID=America/Chicago:20230907T190000
DTEND;TZID=America/Chicago:20230907T210000
DTSTAMP:20260423T165659
CREATED:20211116T203524Z
LAST-MODIFIED:20230821T201143Z
UID:22205-1694113200-1694120400@www.aawausauwi.org
SUMMARY:A.A. District 08 - Monthly District meeting (All A.A. Welcome)
DESCRIPTION:Zoom Link (Attend Virtually)
URL:https://www.aawausauwi.org/event/district-08-monthly-meeting/
LOCATION:Wausau Alano Club\, 711 McClellan St\, Wausau\, WI\, 54403
END:VEVENT
END:VCALENDAR